BEGIN:VCALENDAR
VERSION:2.0
PRODID:-//Association canadienne des professeurs de langues secondes (ACPLS) - ECPv6.15.18//NONSGML v1.0//EN
CALSCALE:GREGORIAN
METHOD:PUBLISH
X-WR-CALNAME:Association canadienne des professeurs de langues secondes (ACPLS)
X-ORIGINAL-URL:http://www.caslt.org/fr/
X-WR-CALDESC:Évènements pour Association canadienne des professeurs de langues secondes (ACPLS)
REFRESH-INTERVAL;VALUE=DURATION:PT1H
X-Robots-Tag:noindex
X-PUBLISHED-TTL:PT1H
BEGIN:VTIMEZONE
TZID:America/Toronto
BEGIN:DAYLIGHT
TZOFFSETFROM:-0500
TZOFFSETTO:-0400
TZNAME:EDT
DTSTART:20200308T070000
END:DAYLIGHT
BEGIN:STANDARD
TZOFFSETFROM:-0400
TZOFFSETTO:-0500
TZNAME:EST
DTSTART:20201101T060000
END:STANDARD
BEGIN:DAYLIGHT
TZOFFSETFROM:-0500
TZOFFSETTO:-0400
TZNAME:EDT
DTSTART:20210314T070000
END:DAYLIGHT
BEGIN:STANDARD
TZOFFSETFROM:-0400
TZOFFSETTO:-0500
TZNAME:EST
DTSTART:20211107T060000
END:STANDARD
BEGIN:DAYLIGHT
TZOFFSETFROM:-0500
TZOFFSETTO:-0400
TZNAME:EDT
DTSTART:20220313T070000
END:DAYLIGHT
BEGIN:STANDARD
TZOFFSETFROM:-0400
TZOFFSETTO:-0500
TZNAME:EST
DTSTART:20221106T060000
END:STANDARD
END:VTIMEZONE
BEGIN:VEVENT
DTSTART;VALUE=DATE:20211001
DTEND;VALUE=DATE:20211002
DTSTAMP:20260425T001004
CREATED:20211215T025306Z
LAST-MODIFIED:20211215T030057Z
UID:4982-1633046400-1633132799@www.caslt.org
SUMMARY:Assemblée générale annuelle 2021
DESCRIPTION:CASLT holds its Annual General Meeting (AGM) each fall. At the AGM\, CASLT members and stakeholders gather to discuss important updates\, vote\, and network. The 2021 AGM took place online on October 1\, 2021 and was followed by the 2021 Networking Day. \nL’ACPLS tient son assemblée générale annuelle (AGA) chaque automne. À l’AGA\, les membres et les parties prenantes de l’ACPLS se réunissent pour discuter des mises à jour importantes\, voter et faire du réseautage. L’AGA 2021 a eu lieu en ligne le 1er octobre 2021.
URL:http://www.caslt.org/fr/evenement/assemblee-generale-annuelle-2021/
LOCATION:Online | En ligne
CATEGORIES:Assemblée générale annuelle
ATTACH;FMTTYPE=image/jpeg:http://www.caslt.org/wp-content/uploads/2021/12/home-office-iStock-1188875323-1920w-16-9.jpg
END:VEVENT
END:VCALENDAR