BEGIN:VCALENDAR
VERSION:2.0
PRODID:-//Association canadienne des professeurs de langues secondes (ACPLS) - ECPv6.15.18//NONSGML v1.0//EN
CALSCALE:GREGORIAN
METHOD:PUBLISH
X-WR-CALNAME:Association canadienne des professeurs de langues secondes (ACPLS)
X-ORIGINAL-URL:http://www.caslt.org/fr/
X-WR-CALDESC:Évènements pour Association canadienne des professeurs de langues secondes (ACPLS)
REFRESH-INTERVAL;VALUE=DURATION:PT1H
X-Robots-Tag:noindex
X-PUBLISHED-TTL:PT1H
BEGIN:VTIMEZONE
TZID:America/Toronto
BEGIN:DAYLIGHT
TZOFFSETFROM:-0500
TZOFFSETTO:-0400
TZNAME:EDT
DTSTART:20230312T070000
END:DAYLIGHT
BEGIN:STANDARD
TZOFFSETFROM:-0400
TZOFFSETTO:-0500
TZNAME:EST
DTSTART:20231105T060000
END:STANDARD
BEGIN:DAYLIGHT
TZOFFSETFROM:-0500
TZOFFSETTO:-0400
TZNAME:EDT
DTSTART:20240310T070000
END:DAYLIGHT
BEGIN:STANDARD
TZOFFSETFROM:-0400
TZOFFSETTO:-0500
TZNAME:EST
DTSTART:20241103T060000
END:STANDARD
BEGIN:DAYLIGHT
TZOFFSETFROM:-0500
TZOFFSETTO:-0400
TZNAME:EDT
DTSTART:20250309T070000
END:DAYLIGHT
BEGIN:STANDARD
TZOFFSETFROM:-0400
TZOFFSETTO:-0500
TZNAME:EST
DTSTART:20251102T060000
END:STANDARD
END:VTIMEZONE
BEGIN:VEVENT
DTSTART;TZID=America/Toronto:20241016T190000
DTEND;TZID=America/Toronto:20241016T200000
DTSTAMP:20260421T234814
CREATED:20240916T201120Z
LAST-MODIFIED:20241008T191241Z
UID:27362-1729105200-1729108800@www.caslt.org
SUMMARY:Faites-les parler! Améliorer les compétences linguistiques au moyen d’activités et de jeux interactifs (anglais)
DESCRIPTION:Imaginez une salle de classe animée par des conversations\, où les élèves s’expriment avec enthousiasme dans la langue cible. Ce n’est pas seulement un rêve – c’est réalisable grâce à des activités simples et stimulantes qui suscitent une passion pour l’expression orale. Dans cet atelier interactif et pratique\, Kate s’appuiera sur ses 16 années d’expérience dans l’enseignement du français de base et post-intensif pour relever les défis courants dans les salles de classe. Elle partagera ses 10 meilleures activités orales\, soigneusement sélectionnées pour stimuler l’engagement des élèves et leur utilisation de la langue. Ces stratégies à faible préparation et à forte incidence sont conçues pour transformer les locuteurs hésitants en communicateurs confiants. Les participant(e)s découvriront des techniques pratiques pour encourager l’utilisation de la langue cible\, exploreront diverses activités stimulantes et faciles à mettre en œuvre et auront accès à un jeu exhaustif de diapositives comportant des instructions et des ressources. Les précieuses connaissances de Kate et ses outils prêts à l’emploi dynamiseront vos leçons et contribueront à renforcer la confiance des élèves dans leur expression orale.
URL:http://www.caslt.org/fr/evenement/fpl-20241016-en/
LOCATION:Zoom
CATEGORIES:Apprentissage professionnel,Webinaire
ATTACH;FMTTYPE=image/jpeg:http://www.caslt.org/wp-content/uploads/2024/09/schoolchildren-AdobeStock_408571723-1920w-16-9.jpg
END:VEVENT
BEGIN:VEVENT
DTSTART;TZID=America/Toronto:20241017T190000
DTEND;TZID=America/Toronto:20241017T200000
DTSTAMP:20260421T234814
CREATED:20240916T201829Z
LAST-MODIFIED:20241008T191238Z
UID:27378-1729191600-1729195200@www.caslt.org
SUMMARY:Faites-les parler! Améliorer les compétences linguistiques au moyen d’activités et de jeux interactifs (français)
DESCRIPTION:Imaginez une salle de classe animée par des conversations\, où les élèves s’expriment avec enthousiasme dans la langue cible. Ce n’est pas seulement un rêve – c’est réalisable grâce à des activités simples et stimulantes qui suscitent une passion pour l’expression orale. Dans cet atelier interactif et pratique\, Kate s’appuiera sur ses 16 années d’expérience dans l’enseignement du français de base et post-intensif pour relever les défis courants dans les salles de classe. Elle partagera ses 10 meilleures activités orales\, soigneusement sélectionnées pour stimuler l’engagement des élèves et leur utilisation de la langue. Ces stratégies à faible préparation et à forte incidence sont conçues pour transformer les locuteurs hésitants en communicateurs confiants. Les participant(e)s découvriront des techniques pratiques pour encourager l’utilisation de la langue cible\, exploreront diverses activités stimulantes et faciles à mettre en œuvre et auront accès à un jeu exhaustif de diapositives comportant des instructions et des ressources. Les précieuses connaissances de Kate et ses outils prêts à l’emploi dynamiseront vos leçons et contribueront à renforcer la confiance des élèves dans leur expression orale.
URL:http://www.caslt.org/fr/evenement/fpl-20241017-fr/
LOCATION:Zoom
CATEGORIES:Apprentissage professionnel,Webinaire
ATTACH;FMTTYPE=image/jpeg:http://www.caslt.org/wp-content/uploads/2024/09/schoolchildren-AdobeStock_408571723-1920w-16-9.jpg
END:VEVENT
END:VCALENDAR