BEGIN:VCALENDAR
VERSION:2.0
PRODID:-//Association canadienne des professeurs de langues secondes (ACPLS) - ECPv6.15.18//NONSGML v1.0//EN
CALSCALE:GREGORIAN
METHOD:PUBLISH
X-WR-CALNAME:Association canadienne des professeurs de langues secondes (ACPLS)
X-ORIGINAL-URL:http://www.caslt.org/fr/
X-WR-CALDESC:Évènements pour Association canadienne des professeurs de langues secondes (ACPLS)
REFRESH-INTERVAL;VALUE=DURATION:PT1H
X-Robots-Tag:noindex
X-PUBLISHED-TTL:PT1H
BEGIN:VTIMEZONE
TZID:America/Toronto
BEGIN:DAYLIGHT
TZOFFSETFROM:-0500
TZOFFSETTO:-0400
TZNAME:EDT
DTSTART:20230312T070000
END:DAYLIGHT
BEGIN:STANDARD
TZOFFSETFROM:-0400
TZOFFSETTO:-0500
TZNAME:EST
DTSTART:20231105T060000
END:STANDARD
BEGIN:DAYLIGHT
TZOFFSETFROM:-0500
TZOFFSETTO:-0400
TZNAME:EDT
DTSTART:20240310T070000
END:DAYLIGHT
BEGIN:STANDARD
TZOFFSETFROM:-0400
TZOFFSETTO:-0500
TZNAME:EST
DTSTART:20241103T060000
END:STANDARD
BEGIN:DAYLIGHT
TZOFFSETFROM:-0500
TZOFFSETTO:-0400
TZNAME:EDT
DTSTART:20250309T070000
END:DAYLIGHT
BEGIN:STANDARD
TZOFFSETFROM:-0400
TZOFFSETTO:-0500
TZNAME:EST
DTSTART:20251102T060000
END:STANDARD
END:VTIMEZONE
BEGIN:VEVENT
DTSTART;TZID=America/Toronto:20241204T190000
DTEND;TZID=America/Toronto:20241204T200000
DTSTAMP:20260421T205336
CREATED:20240930T210532Z
LAST-MODIFIED:20241008T191232Z
UID:27493-1733338800-1733342400@www.caslt.org
SUMMARY:Des stratégies collaboratives : appliquer l’enseignement différencié dans la classe de langue — partie 2 (anglais)
DESCRIPTION:Alors que les classes de langue deviennent plus diversifiées\, l’enseignement différencié efficace n’a jamais été aussi essentiel pour favoriser l’engagement et le succès des élèves. Dans cette séance interactive\, les enseignant(e)s s’appuieront sur les stratégies fondamentales de la partie 1 en collaborant à la conception et à l’affinage de stratégies et d’activités différenciées pour leur utilisation dans leurs classes de langue. Les participant(e)s partageront des idées\, s’engageront dans des activités pratiques et recevront des rétroactions de leurs pairs pour améliorer leurs pratiques différenciées. À la fin de l’atelier\, les participant(e)s disposeront d’un ensemble d’outils et de stratégies affinés et pratiques pour la mise en œuvre efficace de l’enseignement différencié dans leurs salles de classe. Joignez-vous à nous pour établir des liens\, créer et collaborer dans un atelier pratique conçu pour élaborer votre trousse d’outils pédagogiques et bâtir votre communauté professionnelle!
URL:http://www.caslt.org/fr/evenement/fpl-20241204-en/
LOCATION:Zoom
CATEGORIES:Apprentissage professionnel,Webinaire
ATTACH;FMTTYPE=image/jpeg:http://www.caslt.org/wp-content/uploads/2024/09/group-students-library-iStock-1533629664-1920w-16-9.jpg
END:VEVENT
BEGIN:VEVENT
DTSTART;TZID=America/Toronto:20241205T190000
DTEND;TZID=America/Toronto:20241205T200000
DTSTAMP:20260421T205336
CREATED:20241008T145221Z
LAST-MODIFIED:20241008T191230Z
UID:27594-1733425200-1733428800@www.caslt.org
SUMMARY:Des stratégies collaboratives : appliquer l’enseignement différencié dans la classe de langue — partie 2 (français)
DESCRIPTION:Alors que les classes de langue deviennent plus diversifiées\, l’enseignement différencié efficace n’a jamais été aussi essentiel pour favoriser l’engagement et le succès des élèves. Dans cette séance interactive\, les enseignant(e)s s’appuieront sur les stratégies fondamentales de la partie 1 en collaborant à la conception et à l’affinage de stratégies et d’activités différenciées pour leur utilisation dans leurs classes de langue. Les participant(e)s partageront des idées\, s’engageront dans des activités pratiques et recevront des rétroactions de leurs pairs pour améliorer leurs pratiques différenciées. À la fin de l’atelier\, les participant(e)s disposeront d’un ensemble d’outils et de stratégies affinés et pratiques pour la mise en œuvre efficace de l’enseignement différencié dans leurs salles de classe. Joignez-vous à nous pour établir des liens\, créer et collaborer dans un atelier pratique conçu pour élaborer votre trousse d’outils pédagogiques et bâtir votre communauté professionnelle!
URL:http://www.caslt.org/fr/evenement/fpl-20241205-fr/
LOCATION:Zoom
CATEGORIES:Apprentissage professionnel,Webinaire
ATTACH;FMTTYPE=image/jpeg:http://www.caslt.org/wp-content/uploads/2024/09/group-students-library-iStock-1533629664-1920w-16-9.jpg
END:VEVENT
END:VCALENDAR