BEGIN:VCALENDAR
VERSION:2.0
PRODID:-//Association canadienne des professeurs de langues secondes (ACPLS) - ECPv6.15.18//NONSGML v1.0//EN
CALSCALE:GREGORIAN
METHOD:PUBLISH
X-WR-CALNAME:Association canadienne des professeurs de langues secondes (ACPLS)
X-ORIGINAL-URL:http://www.caslt.org/fr/
X-WR-CALDESC:Évènements pour Association canadienne des professeurs de langues secondes (ACPLS)
REFRESH-INTERVAL;VALUE=DURATION:PT1H
X-Robots-Tag:noindex
X-PUBLISHED-TTL:PT1H
BEGIN:VTIMEZONE
TZID:America/Toronto
BEGIN:DAYLIGHT
TZOFFSETFROM:-0500
TZOFFSETTO:-0400
TZNAME:EDT
DTSTART:20240310T070000
END:DAYLIGHT
BEGIN:STANDARD
TZOFFSETFROM:-0400
TZOFFSETTO:-0500
TZNAME:EST
DTSTART:20241103T060000
END:STANDARD
BEGIN:DAYLIGHT
TZOFFSETFROM:-0500
TZOFFSETTO:-0400
TZNAME:EDT
DTSTART:20250309T070000
END:DAYLIGHT
BEGIN:STANDARD
TZOFFSETFROM:-0400
TZOFFSETTO:-0500
TZNAME:EST
DTSTART:20251102T060000
END:STANDARD
BEGIN:DAYLIGHT
TZOFFSETFROM:-0500
TZOFFSETTO:-0400
TZNAME:EDT
DTSTART:20260308T070000
END:DAYLIGHT
BEGIN:STANDARD
TZOFFSETFROM:-0400
TZOFFSETTO:-0500
TZNAME:EST
DTSTART:20261101T060000
END:STANDARD
END:VTIMEZONE
BEGIN:VEVENT
DTSTART;TZID=America/Toronto:20251117T190000
DTEND;TZID=America/Toronto:20251117T201500
DTSTAMP:20260423T055314
CREATED:20251030T131519Z
LAST-MODIFIED:20251030T131519Z
UID:30633-1763406000-1763410500@www.caslt.org
SUMMARY:Maintenir le cap : Stratégies pour soutenir la participation à des programmes de langues additionnelles
DESCRIPTION:Pourquoi l’apprentissage d’une autre langue est-il important\, et comment pouvons-nous aider les familles\, les collègues et les décideurs à en reconnaître la valeur? S’inspirant du projet Pourquoi les langues? et de la Revue de la littérature sur l’impact de l’apprentissage de langues secondes de l’ACPLS\, cette séance explore les bénéfices cognitifs\, scolaires\, sociaux et identitaires de l’apprentissage de langues additionnelles (L+). Conçu pour les enseignant(e)s de langues\, les administrateurs(-trices) scolaires et les dirigeant(e)s à l’échelon central\, cet atelier interactif utilisera des discussions et des scénarios pour explorer des stratégies pratiques de plaidoyer visant à renforcer et à soutenir l’inscription dans les programmes linguistiques. De plus\, les animatrices de l’atelier déconstruiront les mythes courants sur l’apprentissage linguistique. Les participant(e)s repartiront muni(e)s de matières à discussion et de stratégies prêtes à l’emploi pour communiquer la valeur de l’apprentissage linguistique\, que ce soit lors de journées portes ouvertes\, de conversations informelles ou de moments d’engagement familial. Joignez-vous à cette séance afin de découvrir de nouvelles façons d’établir un soutien durable pour les programmes de L+ et contribuer à défendre le rôle du multilinguisme – permettant d’ouvrir des portes et de créer des liens dans un monde global en évolution rapide.
URL:http://www.caslt.org/fr/evenement/fpl-20251117/
LOCATION:Zoom
CATEGORIES:Webinaire,Apprentissage professionnel
ATTACH;FMTTYPE=image/jpeg:http://www.caslt.org/wp-content/uploads/2025/10/teacher-male-high-school-class-AdobeStock_254378815-1920w-16-9.jpg
END:VEVENT
END:VCALENDAR