BEGIN:VCALENDAR
VERSION:2.0
PRODID:-//Association canadienne des professeurs de langues secondes (ACPLS) - ECPv6.15.18//NONSGML v1.0//EN
CALSCALE:GREGORIAN
METHOD:PUBLISH
X-WR-CALNAME:Association canadienne des professeurs de langues secondes (ACPLS)
X-ORIGINAL-URL:http://www.caslt.org/fr/
X-WR-CALDESC:Évènements pour Association canadienne des professeurs de langues secondes (ACPLS)
REFRESH-INTERVAL;VALUE=DURATION:PT1H
X-Robots-Tag:noindex
X-PUBLISHED-TTL:PT1H
BEGIN:VTIMEZONE
TZID:America/Toronto
BEGIN:DAYLIGHT
TZOFFSETFROM:-0500
TZOFFSETTO:-0400
TZNAME:EDT
DTSTART:20210314T070000
END:DAYLIGHT
BEGIN:STANDARD
TZOFFSETFROM:-0400
TZOFFSETTO:-0500
TZNAME:EST
DTSTART:20211107T060000
END:STANDARD
BEGIN:DAYLIGHT
TZOFFSETFROM:-0500
TZOFFSETTO:-0400
TZNAME:EDT
DTSTART:20220313T070000
END:DAYLIGHT
BEGIN:STANDARD
TZOFFSETFROM:-0400
TZOFFSETTO:-0500
TZNAME:EST
DTSTART:20221106T060000
END:STANDARD
BEGIN:DAYLIGHT
TZOFFSETFROM:-0500
TZOFFSETTO:-0400
TZNAME:EDT
DTSTART:20230312T070000
END:DAYLIGHT
BEGIN:STANDARD
TZOFFSETFROM:-0400
TZOFFSETTO:-0500
TZNAME:EST
DTSTART:20231105T060000
END:STANDARD
END:VTIMEZONE
BEGIN:VEVENT
DTSTART;VALUE=DATE:20221103
DTEND;VALUE=DATE:20221106
DTSTAMP:20260423T115330
CREATED:20220414T170823Z
LAST-MODIFIED:20220414T171137Z
UID:8568-1667433600-1667692799@www.caslt.org
SUMMARY:Nos voix communes ver l'avenir (Congrès annuel de l'ACPI 2022)
DESCRIPTION:L’Association canadienne des professionnels de l’immersion (ACPI) est heureuse de vous accueillir à son 45e congrès dans la capitale nationale du Canada\, la ville d’Ottawa. \nHistoriquement\, l’identité régionale d’Ottawa a été influencée par de nombreuses cultures\, notamment les Premières Nations\, les Français\, les Anglais\, les Écossais et les Irlandais. La ville d’Ottawa est située sur le territoire ancestral de la nation algonquine des Anishinaabes. Comme plusieurs rivières se rejoignent ici\, la région était un couloir de transport actif pour une diversité étonnante de groupes autochtones et de voyageurs. Nos voix communes vers l’avenir\, c’est rassembler toutes les voix qui composent la riche diversité de notre pays d’aujourd’hui pour façonner l’éducation de demain. \nDu 3 au 5 novembre 2022\, des professionnels de partout au Canada se rencontreront le temps de quelques jours pour prendre une bonne bouffée d’inspiration\, tout en profitant d’un développement professionnel de haut niveau\, leur permettant ainsi d’être à l’affût des dernières tendances est pédagogie immersive.
URL:http://www.caslt.org/fr/evenement/congres-annuel-acpi-2022/
CATEGORIES:Point de mire de la communauté
ATTACH;FMTTYPE=image/jpeg:http://www.caslt.org/wp-content/uploads/2021/10/CASLT-ACPLS_1708897183-1080x1080-1.jpg
END:VEVENT
BEGIN:VEVENT
DTSTART;TZID=America/Toronto:20221107T190000
DTEND;TZID=America/Toronto:20221107T200000
DTSTAMP:20260423T115330
CREATED:20221020T175055Z
LAST-MODIFIED:20221020T182619Z
UID:12871-1667847600-1667851200@www.caslt.org
SUMMARY:Abandonnez le manuel : Une table de discussion sur l’utilisation de la technologie pour centrer les diverses perspectives dans la classe de langue additionnelle (anglais)
DESCRIPTION:Avec la pandémie de COVID-19\, la technologie en est venue à jouer un rôle essentiel dans les classes de langues. Dans le cadre de sa mission de soutien aux enseignants et à l’enseignement de langues secondes au Canada\, l’ACPLS organise une série de webinaires de formation professionnelle en ligne qui explorent le rôle de la technologie dans l’enseignement et l’apprentissage des langues. \nLa technologie nous connecte à une variété apparemment illimitée de ressources authentiques provenant de diverses perspectives. Comment savoir quelles ressources utiliser? Comment pouvons-nous nous assurer qu’elles sont appropriées pour nos apprenants? Cette séance interactive se concentrera sur des stratégies pratiques et faciles à mettre en œuvre pour exploiter la technologie afin de mettre en valeur les voix traditionnellement marginalisées dans la classe de langue additionnelle. Abandonnez le manuel scolaire et distanciez-vous des visions du monde limitées de la littérature classique pour vous assurer que diverses voix sont intentionnellement représentées dans votre classe. Rejoignez nos trois panélistes pour poser vos questions et discuter des meilleures pratiques afin d’inclure des perspectives diverses dans la classe de langue additionnelle.
URL:http://www.caslt.org/fr/evenement/fpl-20221107/
LOCATION:Zoom
CATEGORIES:Apprentissage professionnel
ATTACH;FMTTYPE=image/jpeg:http://www.caslt.org/wp-content/uploads/2022/10/students-computer-elementary-AdobeStock_315978152-1920w-16-9.jpg
END:VEVENT
BEGIN:VEVENT
DTSTART;TZID=America/Toronto:20221109T190000
DTEND;TZID=America/Toronto:20221109T200000
DTSTAMP:20260423T115330
CREATED:20221020T175746Z
LAST-MODIFIED:20221020T190346Z
UID:12879-1668020400-1668024000@www.caslt.org
SUMMARY:Abandonnez le manuel : Une table de discussion sur l’utilisation de la technologie pour centrer les diverses perspectives dans la classe de langue additionnelle (français)
DESCRIPTION:Avec la pandémie de COVID-19\, la technologie en est venue à jouer un rôle essentiel dans les classes de langues. Dans le cadre de sa mission de soutien aux enseignants et à l’enseignement de langues secondes au Canada\, l’ACPLS organise une série de webinaires de formation professionnelle en ligne qui explorent le rôle de la technologie dans l’enseignement et l’apprentissage des langues. \nLa technologie nous connecte à une variété apparemment illimitée de ressources authentiques provenant de diverses perspectives. Comment savoir quelles ressources utiliser? Comment pouvons-nous nous assurer qu’elles sont appropriées pour nos apprenants? Cette séance interactive se concentrera sur des stratégies pratiques et faciles à mettre en œuvre pour exploiter la technologie afin de mettre en valeur les voix traditionnellement marginalisées dans la classe de langue additionnelle. Abandonnez le manuel scolaire et distanciez-vous des visions du monde limitées de la littérature classique pour vous assurer que diverses voix sont intentionnellement représentées dans votre classe. Rejoignez nos trois panélistes pour poser vos questions et discuter des meilleures pratiques afin d’inclure des perspectives diverses dans la classe de langue additionnelle.
URL:http://www.caslt.org/fr/evenement/fpl-20221109/
LOCATION:Zoom
CATEGORIES:Apprentissage professionnel
ATTACH;FMTTYPE=image/jpeg:http://www.caslt.org/wp-content/uploads/2022/10/students-computer-elementary-AdobeStock_315978152-1920w-16-9.jpg
END:VEVENT
BEGIN:VEVENT
DTSTART;TZID=America/Toronto:20221121T190000
DTEND;TZID=America/Toronto:20221121T200000
DTSTAMP:20260423T115330
CREATED:20221102T222944Z
LAST-MODIFIED:20221124T143242Z
UID:12935-1669057200-1669060800@www.caslt.org
SUMMARY:Plus forts ensemble : Bâtir des communautés de pratique en ligne pour les enseignants de langues (anglais)
DESCRIPTION:Avec la pandémie de COVID-19\, la technologie en est venue à jouer un rôle essentiel dans les classes de langues. Dans le cadre de sa mission de soutien aux enseignants et à l’enseignement de langues secondes au Canada\, l’ACPLS organise une série de webinaires de formation professionnelle en ligne qui explorent le rôle de la technologie dans l’enseignement et l’apprentissage des langues. \nLa connexion est une force essentielle dans toutes nos vies. En tant qu’enseignants de langues\, faire partie d’une communauté de pratique peut combattre l’isolement et offrir des occasions de partager des idées\, des perspectives et des solutions. Que vous soyez au tout début d’une carrière d’enseignant ou sur le point de prendre votre retraite\, le réseautage en ligne peut élargir les possibilités d’apprentissage\, de collaboration et de développement professionnel. Cette séance interactive en panel permettra d’explorer la recherche actuelle sur le mentorat et les communautés de pratique\, ainsi que les stratégies de lutte contre l’isolement et les pratiques exemplaires pour créer et maintenir des communautés de pratique en ligne.
URL:http://www.caslt.org/fr/evenement/fpl-20221121/
LOCATION:Zoom
CATEGORIES:Apprentissage professionnel
ATTACH;FMTTYPE=image/jpeg:http://www.caslt.org/wp-content/uploads/2022/11/women-video-call-AdobeStock_386423290-1920w-16-9.jpg
END:VEVENT
BEGIN:VEVENT
DTSTART;TZID=America/Toronto:20221123T190000
DTEND;TZID=America/Toronto:20221123T200000
DTSTAMP:20260423T115330
CREATED:20221102T223530Z
LAST-MODIFIED:20221124T143307Z
UID:12940-1669230000-1669233600@www.caslt.org
SUMMARY:Plus forts ensemble : Bâtir des communautés de pratique en ligne pour les enseignants de langues (français)
DESCRIPTION:Avec la pandémie de COVID-19\, la technologie en est venue à jouer un rôle essentiel dans les classes de langues. Dans le cadre de sa mission de soutien aux enseignants et à l’enseignement de langues secondes au Canada\, l’ACPLS organise une série de webinaires de formation professionnelle en ligne qui explorent le rôle de la technologie dans l’enseignement et l’apprentissage des langues. \nLa connexion est une force essentielle dans toutes nos vies. En tant qu’enseignants de langues\, faire partie d’une communauté de pratique peut combattre l’isolement et offrir des occasions de partager des idées\, des perspectives et des solutions. Que vous soyez au tout début d’une carrière d’enseignant ou sur le point de prendre votre retraite\, le réseautage en ligne peut élargir les possibilités d’apprentissage\, de collaboration et de développement professionnel. Cette séance interactive en panel permettra d’explorer la recherche actuelle sur le mentorat et les communautés de pratique\, ainsi que les stratégies de lutte contre l’isolement et les pratiques exemplaires pour créer et maintenir des communautés de pratique en ligne.
URL:http://www.caslt.org/fr/evenement/fpl-20221123/
LOCATION:Zoom
CATEGORIES:Apprentissage professionnel
ATTACH;FMTTYPE=image/jpeg:http://www.caslt.org/wp-content/uploads/2022/11/women-video-call-AdobeStock_386423290-1920w-16-9.jpg
END:VEVENT
END:VCALENDAR