BEGIN:VCALENDAR
VERSION:2.0
PRODID:-//Canadian Association of Second Language Teachers (CASLT) - ECPv6.15.18//NONSGML v1.0//EN
CALSCALE:GREGORIAN
METHOD:PUBLISH
X-WR-CALNAME:Canadian Association of Second Language Teachers (CASLT)
X-ORIGINAL-URL:https://www.caslt.org/en/
X-WR-CALDESC:Events for Canadian Association of Second Language Teachers (CASLT)
REFRESH-INTERVAL;VALUE=DURATION:PT1H
X-Robots-Tag:noindex
X-PUBLISHED-TTL:PT1H
BEGIN:VTIMEZONE
TZID:America/Toronto
BEGIN:DAYLIGHT
TZOFFSETFROM:-0500
TZOFFSETTO:-0400
TZNAME:EDT
DTSTART:20210314T070000
END:DAYLIGHT
BEGIN:STANDARD
TZOFFSETFROM:-0400
TZOFFSETTO:-0500
TZNAME:EST
DTSTART:20211107T060000
END:STANDARD
BEGIN:DAYLIGHT
TZOFFSETFROM:-0500
TZOFFSETTO:-0400
TZNAME:EDT
DTSTART:20220313T070000
END:DAYLIGHT
BEGIN:STANDARD
TZOFFSETFROM:-0400
TZOFFSETTO:-0500
TZNAME:EST
DTSTART:20221106T060000
END:STANDARD
BEGIN:DAYLIGHT
TZOFFSETFROM:-0500
TZOFFSETTO:-0400
TZNAME:EDT
DTSTART:20230312T070000
END:DAYLIGHT
BEGIN:STANDARD
TZOFFSETFROM:-0400
TZOFFSETTO:-0500
TZNAME:EST
DTSTART:20231105T060000
END:STANDARD
BEGIN:DAYLIGHT
TZOFFSETFROM:-0500
TZOFFSETTO:-0400
TZNAME:EDT
DTSTART:20240310T070000
END:DAYLIGHT
BEGIN:STANDARD
TZOFFSETFROM:-0400
TZOFFSETTO:-0500
TZNAME:EST
DTSTART:20241103T060000
END:STANDARD
BEGIN:DAYLIGHT
TZOFFSETFROM:-0500
TZOFFSETTO:-0400
TZNAME:EDT
DTSTART:20250309T070000
END:DAYLIGHT
BEGIN:STANDARD
TZOFFSETFROM:-0400
TZOFFSETTO:-0500
TZNAME:EST
DTSTART:20251102T060000
END:STANDARD
END:VTIMEZONE
BEGIN:VTIMEZONE
TZID:America/Vancouver
BEGIN:DAYLIGHT
TZOFFSETFROM:-0800
TZOFFSETTO:-0700
TZNAME:PDT
DTSTART:20230312T100000
END:DAYLIGHT
BEGIN:STANDARD
TZOFFSETFROM:-0700
TZOFFSETTO:-0800
TZNAME:PST
DTSTART:20231105T090000
END:STANDARD
BEGIN:DAYLIGHT
TZOFFSETFROM:-0800
TZOFFSETTO:-0700
TZNAME:PDT
DTSTART:20240310T100000
END:DAYLIGHT
BEGIN:STANDARD
TZOFFSETFROM:-0700
TZOFFSETTO:-0800
TZNAME:PST
DTSTART:20241103T090000
END:STANDARD
BEGIN:DAYLIGHT
TZOFFSETFROM:-0800
TZOFFSETTO:-0700
TZNAME:PDT
DTSTART:20250309T100000
END:DAYLIGHT
BEGIN:STANDARD
TZOFFSETFROM:-0700
TZOFFSETTO:-0800
TZNAME:PST
DTSTART:20251102T090000
END:STANDARD
END:VTIMEZONE
BEGIN:VEVENT
DTSTART;TZID=America/Toronto:20240926T120000
DTEND;TZID=America/Toronto:20240926T124500
DTSTAMP:20260423T144621
CREATED:20240912T194427Z
LAST-MODIFIED:20240912T194427Z
UID:27243-1727352000-1727354700@www.caslt.org
SUMMARY:Formation Mauril en classe
DESCRIPTION:
URL:https://www.caslt.org/en/event/mauril-fr-20240926/
CATEGORIES:Community Spotlight
ATTACH;FMTTYPE=image/png:https://www.caslt.org/wp-content/uploads/2024/09/MAU_en_Classe_Francais_1200x1200.png
END:VEVENT
BEGIN:VEVENT
DTSTART;TZID=America/Toronto:20240926T100000
DTEND;TZID=America/Toronto:20240926T104500
DTSTAMP:20260423T144621
CREATED:20240912T194400Z
LAST-MODIFIED:20240912T194400Z
UID:27250-1727344800-1727347500@www.caslt.org
SUMMARY:Mauril in the Classroom Training
DESCRIPTION:
URL:https://www.caslt.org/en/event/mauril-en-20240926/
CATEGORIES:Community Spotlight
ATTACH;FMTTYPE=image/png:https://www.caslt.org/wp-content/uploads/2024/09/MAU_en_Classe_Francais_1200x1200.png
END:VEVENT
BEGIN:VEVENT
DTSTART;TZID=America/Toronto:20240424T090000
DTEND;TZID=America/Toronto:20240424T100000
DTSTAMP:20260423T144621
CREATED:20240419T160030Z
LAST-MODIFIED:20240419T160030Z
UID:25979-1713949200-1713952800@www.caslt.org
SUMMARY:The second edition of National French Immersion Day - Our Languages: The Bridge That Unites
DESCRIPTION:
URL:https://www.caslt.org/en/event/acpi-20240424/
CATEGORIES:Community Spotlight
ATTACH;FMTTYPE=image/jpeg:https://www.caslt.org/wp-content/uploads/2022/03/students-young-teen-iStock-13223698391920w-16-9.jpg
END:VEVENT
BEGIN:VEVENT
DTSTART;TZID=America/Vancouver:20240420T090000
DTEND;TZID=America/Vancouver:20240420T130000
DTSTAMP:20260423T144621
CREATED:20240318T190135Z
LAST-MODIFIED:20240318T190135Z
UID:25802-1713603600-1713618000@www.caslt.org
SUMMARY:Honing Our Craft Canada
DESCRIPTION:We are thrilled to invite you to our upcoming virtual conference\, “Honing Our Craft Canada\,” in collaboration with the BC Association of Teachers of Modern Languages. Mark your calendars for April 20th\, where we will embark on a transformative journey to enhance language education across Canada. Topics will include inclusivity and diversity in the classroom\, telecollaboration\, and reading comprehension strategies.
URL:https://www.caslt.org/en/event/klett-20240420/
CATEGORIES:Community Spotlight
ATTACH;FMTTYPE=image/png:https://www.caslt.org/wp-content/uploads/2024/03/HoC-Canada.png
END:VEVENT
BEGIN:VEVENT
DTSTART;TZID=America/Toronto:20240411T110000
DTEND;TZID=America/Toronto:20240411T121500
DTSTAMP:20260423T144621
CREATED:20240327T153123Z
LAST-MODIFIED:20240327T153123Z
UID:25837-1712833200-1712837700@www.caslt.org
SUMMARY:Bilingualism and Autism: Bridging the Gap between Research and Beliefs
DESCRIPTION:
URL:https://www.caslt.org/en/event/olbi-20240411/
CATEGORIES:Community Spotlight
ATTACH;FMTTYPE=image/png:https://www.caslt.org/wp-content/uploads/2024/03/Banniere_Infolettre-Forum-CCERBAL-11-avril.png
END:VEVENT
BEGIN:VEVENT
DTSTART;TZID=America/Toronto:20240318T190000
DTEND;TZID=America/Toronto:20240318T203000
DTSTAMP:20260423T144621
CREATED:20240311T150609Z
LAST-MODIFIED:20240311T150609Z
UID:25768-1710788400-1710793800@www.caslt.org
SUMMARY:Francophonie excentrique: Un chassé-croisé artistique!
DESCRIPTION:
URL:https://www.caslt.org/en/event/olbi-20240318/
CATEGORIES:Community Spotlight
ATTACH;FMTTYPE=image/png:https://www.caslt.org/wp-content/uploads/2024/03/Francophonie-excentrique-Un-chasse-croise-artistique-banniere.png
END:VEVENT
BEGIN:VEVENT
DTSTART;TZID=America/Toronto:20240314T183000
DTEND;TZID=America/Toronto:20240314T203000
DTSTAMP:20260423T144621
CREATED:20240311T150048Z
LAST-MODIFIED:20240311T150048Z
UID:25762-1710441000-1710448200@www.caslt.org
SUMMARY:Documentary premiere: Le dernier Canadien français
DESCRIPTION:
URL:https://www.caslt.org/en/event/olbi-20240314-2/
CATEGORIES:Community Spotlight
ATTACH;FMTTYPE=image/jpeg:https://www.caslt.org/wp-content/uploads/2024/03/Le-dernier-canadien-francais.jpg
END:VEVENT
BEGIN:VEVENT
DTSTART;TZID=America/Toronto:20240314T100000
DTEND;TZID=America/Toronto:20240314T111500
DTSTAMP:20260423T144621
CREATED:20240311T145516Z
LAST-MODIFIED:20240311T145516Z
UID:25756-1710410400-1710414900@www.caslt.org
SUMMARY:“Not another curriculum initiative!” Justifications and challenges concerning the embedding of academic literacies in university programme curricula
DESCRIPTION:
URL:https://www.caslt.org/en/event/olbi-20240314-1/
CATEGORIES:Community Spotlight
ATTACH;FMTTYPE=image/png:https://www.caslt.org/wp-content/uploads/2024/03/FORUM-DE-RECHERCHE-DU-CCERBAL-2.png
END:VEVENT
BEGIN:VEVENT
DTSTART;TZID=America/Toronto:20240312T130000
DTEND;TZID=America/Toronto:20240312T140000
DTSTAMP:20260423T144621
CREATED:20240311T144950Z
LAST-MODIFIED:20240311T144950Z
UID:25748-1710248400-1710252000@www.caslt.org
SUMMARY:Making your bilingualism count: career and job search essentials
DESCRIPTION:
URL:https://www.caslt.org/en/event/olbi-20240312/
CATEGORIES:Community Spotlight
ATTACH;FMTTYPE=image/png:https://www.caslt.org/wp-content/uploads/2024/03/Copy-of-Add-a-heading.png
END:VEVENT
BEGIN:VEVENT
DTSTART;TZID=America/Vancouver:20240216T083000
DTEND;TZID=America/Vancouver:20240216T154500
DTSTAMP:20260423T144621
CREATED:20231211T154352Z
LAST-MODIFIED:20231211T154352Z
UID:24760-1708072200-1708098300@www.caslt.org
SUMMARY:Congrès « J’enseigne en français »
DESCRIPTION:
URL:https://www.caslt.org/en/event/congres-j-enseigne-en-francais-2024/
CATEGORIES:Community Spotlight
ATTACH;FMTTYPE=image/jpeg:https://www.caslt.org/wp-content/uploads/2023/12/discussion-AdobeStock_316038660-1920w-16-10.jpg
END:VEVENT
BEGIN:VEVENT
DTSTART;TZID=America/Toronto:20240202T100000
DTEND;TZID=America/Toronto:20240202T111500
DTSTAMP:20260423T144621
CREATED:20240119T174256Z
LAST-MODIFIED:20240119T174256Z
UID:25105-1706868000-1706872500@www.caslt.org
SUMMARY:Langue(s)\, Éducation et Pluralisme : Quelques réflexions d’une praticienne-chercheure
DESCRIPTION:
URL:https://www.caslt.org/en/event/ccerbal-feb-2024/
CATEGORIES:Community Spotlight
ATTACH;FMTTYPE=image/png:https://www.caslt.org/wp-content/uploads/2024/01/FORUM-DE-RECHERCHE-DU-CCERBAL.png
END:VEVENT
BEGIN:VEVENT
DTSTART;TZID=America/Toronto:20231121T100000
DTEND;TZID=America/Toronto:20231121T111500
DTSTAMP:20260423T144621
CREATED:20231120T184145Z
LAST-MODIFIED:20231120T184145Z
UID:24416-1700560800-1700565300@www.caslt.org
SUMMARY:Does input manipulation lead to acceleration effects in second language English instruction?
DESCRIPTION:
URL:https://www.caslt.org/en/event/ccerbal-nov-2023/
CATEGORIES:Community Spotlight
ATTACH;FMTTYPE=image/jpeg:https://www.caslt.org/wp-content/uploads/2023/02/man-laptop-AdobeStock_404416234-1920w-16-9.jpg
END:VEVENT
BEGIN:VEVENT
DTSTART;TZID=America/Toronto:20231110T100000
DTEND;TZID=America/Toronto:20231110T111500
DTSTAMP:20260423T144621
CREATED:20231020T184115Z
LAST-MODIFIED:20231020T184509Z
UID:24097-1699610400-1699614900@www.caslt.org
SUMMARY:Conscience métalinguistique et Afrique francophone : quelques enquêtes en cours
DESCRIPTION:CCERBAL is hosting a research forum\, Conscience métalinguistique et Afrique francophone: quelques enquêtes en cours\, presented by Oreste Floquet\, linguistics professor at Sapienza University of Rome and associate member of the Abidjan Institute of applied linguistics.
URL:https://www.caslt.org/en/event/ccerbal-20231110/
CATEGORIES:Community Spotlight
ATTACH;FMTTYPE=image/png:https://www.caslt.org/wp-content/uploads/2023/10/Forum-CCERBAL_Nov-2023_16-x-9-in.png
END:VEVENT
BEGIN:VEVENT
DTSTART;TZID=America/Toronto:20230923T083000
DTEND;TZID=America/Toronto:20230924T133000
DTSTAMP:20260423T144621
CREATED:20230727T152517Z
LAST-MODIFIED:20230727T152517Z
UID:23173-1695457800-1695562200@www.caslt.org
SUMMARY:Canadian Association of Teachers of German National Conference
DESCRIPTION:Aktivismen als Lern- und Erfahrungsthemen: Herausforderungen\, Hilfe und Möglichkeiten für Deutschlernende und Lehrkräfte\nCégep du Vieux Montréal and Goethe-Institut Montréal: Saturday\, September 23 and Sunday\, September 24. For registration and full details\, visit www.catg.ca.
URL:https://www.caslt.org/en/event/catg-national-conference/
LOCATION:Cégep du Vieux Montréal
CATEGORIES:Community Spotlight
ATTACH;FMTTYPE=image/jpeg:https://www.caslt.org/wp-content/uploads/2022/04/applaud-iStock-5905941921920w-16-9.jpg
END:VEVENT
BEGIN:VEVENT
DTSTART;VALUE=DATE:20230817
DTEND;VALUE=DATE:20230819
DTSTAMP:20260423T144621
CREATED:20230628T151504Z
LAST-MODIFIED:20230628T151504Z
UID:14808-1692230400-1692403199@www.caslt.org
SUMMARY:CAJLE Annual Conference
DESCRIPTION:CAJLE holds an annual conference which includes lectures and workshops by guest speakers\, as well as research presentations and a general meeting.  The conference provides a great opportunity for participants to exchange information and opinions on Japanese language education and Japanese linguistics. The CAJLE 2023 Annual Conference will be held in Montreal\, Quebec.
URL:https://www.caslt.org/en/event/cajle-2023/
CATEGORIES:Community Spotlight
ATTACH;FMTTYPE=image/jpeg:https://www.caslt.org/wp-content/uploads/2021/10/CASLT-ACPLS_760362370-1.jpg
END:VEVENT
BEGIN:VEVENT
DTSTART;TZID=America/Toronto:20230421T110000
DTEND;TZID=America/Toronto:20230421T150000
DTSTAMP:20260423T144621
CREATED:20230418T162735Z
LAST-MODIFIED:20230418T162843Z
UID:14326-1682074800-1682089200@www.caslt.org
SUMMARY:Symposium virtuel de l'ACPI : Pédagogie et rétention au secondaire
DESCRIPTION:Le 21 avril prochain\, en moins d’une journée\, l’ACPI rassemble huit (8) experts de l’immersion française ainsi qu’une panoplie d’organisations francophones et francophiles canadiennes pour offrir des outils concrets aux professionnels de l’immersion œuvrant au niveau secondaire.  \nS’adressant principalement aux professionnels des niveaux 9e à la 12e année\, cette journée a pour objectifs :   \n\nPermettre aux enseignants d’obtenir des outils\, trucs et astuces pour assurer le transfert de langue dans l’enseignement des matières\nFaire connaître aux professionnels de l’immersion les organismes et organisations pouvant encourager et supporter leurs élèves afin qu’il puissent poursuivre des études post-secondaires en français ou encore faire le choix d’une profession bilingue.  
URL:https://www.caslt.org/en/event/symposium-virtuel-acpi-2023/
CATEGORIES:Community Spotlight
ATTACH;FMTTYPE=image/jpeg:https://www.caslt.org/wp-content/uploads/2022/11/women-video-call-AdobeStock_386423290-1920w-16-9.jpg
END:VEVENT
BEGIN:VEVENT
DTSTART;TZID=America/Toronto:20230309T130000
DTEND;TZID=America/Toronto:20230309T150000
DTSTAMP:20260423T144621
CREATED:20230221T152226Z
LAST-MODIFIED:20230221T152226Z
UID:13791-1678366800-1678374000@www.caslt.org
SUMMARY:Mauril in the Classroom / Pilot Project (English)
DESCRIPTION:
URL:https://www.caslt.org/en/event/mauril-demo-en/
LOCATION:Zoom
CATEGORIES:Community Spotlight
ATTACH;FMTTYPE=image/jpeg:https://www.caslt.org/wp-content/uploads/2021/11/business-video-conference-iStock-1214822053-scaled.jpg
END:VEVENT
BEGIN:VEVENT
DTSTART;TZID=America/Toronto:20230309T110000
DTEND;TZID=America/Toronto:20230309T130000
DTSTAMP:20260423T144621
CREATED:20230221T151636Z
LAST-MODIFIED:20230221T152156Z
UID:13795-1678359600-1678366800@www.caslt.org
SUMMARY:Mauril in the Classroom / Pilot Project (French)
DESCRIPTION:
URL:https://www.caslt.org/en/event/mauril-demo-fr/
LOCATION:Zoom
CATEGORIES:Community Spotlight
ATTACH;FMTTYPE=image/jpeg:https://www.caslt.org/wp-content/uploads/2021/11/business-video-conference-iStock-1214822053-scaled.jpg
END:VEVENT
BEGIN:VEVENT
DTSTART;TZID=America/Toronto:20230301T183000
DTEND;TZID=America/Toronto:20230301T194500
DTSTAMP:20260423T144621
CREATED:20230207T020000Z
LAST-MODIFIED:20230207T020000Z
UID:13652-1677695400-1677699900@www.caslt.org
SUMMARY:Causerie avec David Bouchet
DESCRIPTION:
URL:https://www.caslt.org/en/event/causerie-avec-david-bouchet/
LOCATION:Zoom
CATEGORIES:Community Spotlight
ATTACH;FMTTYPE=image/png:https://www.caslt.org/wp-content/uploads/2023/02/copy-of-causerie-1536x864_0.png
END:VEVENT
BEGIN:VEVENT
DTSTART;TZID=America/Toronto:20230215T130000
DTEND;TZID=America/Toronto:20230215T141500
DTSTAMP:20260423T144621
CREATED:20230125T184631Z
LAST-MODIFIED:20230125T184631Z
UID:13577-1676466000-1676470500@www.caslt.org
SUMMARY:Latest Research on Second Language Learning and News from Other Countries
DESCRIPTION:Showcase meeting 3 for the National Table for French as a Second Language.
URL:https://www.caslt.org/en/event/tnfls-20230215/
LOCATION:Zoom
CATEGORIES:Community Spotlight
ATTACH;FMTTYPE=image/jpeg:https://www.caslt.org/wp-content/uploads/2022/04/teacher-collaboration-iStock-481722996-web.jpg
END:VEVENT
BEGIN:VEVENT
DTSTART;TZID=America/Toronto:20230131T130000
DTEND;TZID=America/Toronto:20230131T141500
DTSTAMP:20260423T144621
CREATED:20230125T183545Z
LAST-MODIFIED:20230125T183545Z
UID:13572-1675170000-1675174500@www.caslt.org
SUMMARY:French Immersion and FSL Student Retention and Recruitment Pool
DESCRIPTION:Showcase meeting 2 for the National Table for French as a Second Language.
URL:https://www.caslt.org/en/event/tnfls-20230131/
LOCATION:Zoom
CATEGORIES:Community Spotlight
ATTACH;FMTTYPE=image/jpeg:https://www.caslt.org/wp-content/uploads/2022/11/CASLT-ACPLS_760362370-1920w-16-9.jpg
END:VEVENT
BEGIN:VEVENT
DTSTART;VALUE=DATE:20221103
DTEND;VALUE=DATE:20221106
DTSTAMP:20260423T144621
CREATED:20220414T171031Z
LAST-MODIFIED:20230207T020552Z
UID:8566-1667433600-1667692799@www.caslt.org
SUMMARY:Nos voix communes ver l'avenir (ACPI 2022 Annual Conference)
DESCRIPTION:L’Association canadienne des professionnels de l’immersion (ACPI) est heureuse de vous accueillir à son 45e congrès dans la capitale nationale du Canada\, la ville d’Ottawa. \nHistoriquement\, l’identité régionale d’Ottawa a été influencée par de nombreuses cultures\, notamment les Premières Nations\, les Français\, les Anglais\, les Écossais et les Irlandais. La ville d’Ottawa est située sur le territoire ancestral de la nation algonquine des Anishinaabes. Comme plusieurs rivières se rejoignent ici\, la région était un couloir de transport actif pour une diversité étonnante de groupes autochtones et de voyageurs. Nos voix communes vers l’avenir\, c’est rassembler toutes les voix qui composent la riche diversité de notre pays d’aujourd’hui pour façonner l’éducation de demain. \nDu 3 au 5 novembre 2022\, des professionnels de partout au Canada se rencontreront le temps de quelques jours pour prendre une bonne bouffée d’inspiration\, tout en profitant d’un développement professionnel de haut niveau\, leur permettant ainsi d’être à l’affût des dernières tendances est pédagogie immersive.
URL:https://www.caslt.org/en/event/acpi-annual-conference-2022/
CATEGORIES:Community Spotlight
ATTACH;FMTTYPE=image/jpeg:https://www.caslt.org/wp-content/uploads/2021/10/CASLT-ACPLS_1708897183-1080x1080-1.jpg
END:VEVENT
BEGIN:VEVENT
DTSTART;VALUE=DATE:20221021
DTEND;VALUE=DATE:20221022
DTSTAMP:20260423T144621
CREATED:20220421T140459Z
LAST-MODIFIED:20230207T020508Z
UID:8612-1666310400-1666396799@www.caslt.org
SUMMARY:Celebrating Languages 2022 (BCATML Annual Conference)
DESCRIPTION:
URL:https://www.caslt.org/en/event/celebrating-languages-2022/
CATEGORIES:Community Spotlight
ATTACH;FMTTYPE=image/jpeg:https://www.caslt.org/wp-content/uploads/2021/11/shutterstock_760359742-e1637942290341.jpg
END:VEVENT
BEGIN:VEVENT
DTSTART;VALUE=DATE:20220811
DTEND;VALUE=DATE:20220813
DTSTAMP:20260423T144621
CREATED:20220414T170226Z
LAST-MODIFIED:20220414T170226Z
UID:8562-1660176000-1660348799@www.caslt.org
SUMMARY:CAJLE Annual Conference 2022
DESCRIPTION:CAJLE (Canadian Association for Japanese Language Education) holds an annual conference which includes lectures and workshops by guest speakers\, as well as research presentations and a general meeting. The conference provides a great opportunity for participants to exchange information and opinions on Japanese language education and Japanese linguistics. The CAJLE 2022 Annual Conference will be online. \nTheme: Japanese Language Education for the Future: Language and Mobility in a Changing Global Society
URL:https://www.caslt.org/en/event/cajle-annual-conference-2022/
CATEGORIES:Community Spotlight
ATTACH;FMTTYPE=image/jpeg:https://www.caslt.org/wp-content/uploads/2021/10/caslt-header-2-e1635011747643.jpg
END:VEVENT
BEGIN:VEVENT
DTSTART;VALUE=DATE:20220422
DTEND;VALUE=DATE:20220424
DTSTAMP:20260423T144621
CREATED:20220414T141018Z
LAST-MODIFIED:20220414T141252Z
UID:8560-1650585600-1650758399@www.caslt.org
SUMMARY:OMLTA/AOPLV 2022 Spring Conference
DESCRIPTION:Join hundreds of your French as a Second Language and International Languages educators from across the province at the 2022 OMLTA Spring Conference as we explore overcoming obstacles in a variety of authentic contexts and strive to create dynamic learning environments to our students. \nUnder the theme of “Enseigner en dehors des lignes/Teaching outside the lines”\, explore relevant and purposeful classroom experiences as they relate to curricula\, best practices\, and supporting well-being!
URL:https://www.caslt.org/en/event/omlta-aoplv-2022-spring-conference/
CATEGORIES:Community Spotlight
ATTACH;FMTTYPE=image/jpeg:https://www.caslt.org/wp-content/uploads/2021/12/tech-iStock-480582160.jpg
END:VEVENT
END:VCALENDAR