BEGIN:VCALENDAR
VERSION:2.0
PRODID:-//Canadian Association of Second Language Teachers (CASLT) - ECPv6.15.18//NONSGML v1.0//EN
CALSCALE:GREGORIAN
METHOD:PUBLISH
X-WR-CALNAME:Canadian Association of Second Language Teachers (CASLT)
X-ORIGINAL-URL:https://www.caslt.org/en/
X-WR-CALDESC:Events for Canadian Association of Second Language Teachers (CASLT)
REFRESH-INTERVAL;VALUE=DURATION:PT1H
X-Robots-Tag:noindex
X-PUBLISHED-TTL:PT1H
BEGIN:VTIMEZONE
TZID:America/Toronto
BEGIN:DAYLIGHT
TZOFFSETFROM:-0500
TZOFFSETTO:-0400
TZNAME:EDT
DTSTART:20120311T070000
END:DAYLIGHT
BEGIN:STANDARD
TZOFFSETFROM:-0400
TZOFFSETTO:-0500
TZNAME:EST
DTSTART:20121104T060000
END:STANDARD
BEGIN:DAYLIGHT
TZOFFSETFROM:-0500
TZOFFSETTO:-0400
TZNAME:EDT
DTSTART:20130310T070000
END:DAYLIGHT
BEGIN:STANDARD
TZOFFSETFROM:-0400
TZOFFSETTO:-0500
TZNAME:EST
DTSTART:20131103T060000
END:STANDARD
BEGIN:DAYLIGHT
TZOFFSETFROM:-0500
TZOFFSETTO:-0400
TZNAME:EDT
DTSTART:20140309T070000
END:DAYLIGHT
BEGIN:STANDARD
TZOFFSETFROM:-0400
TZOFFSETTO:-0500
TZNAME:EST
DTSTART:20141102T060000
END:STANDARD
END:VTIMEZONE
BEGIN:VEVENT
DTSTART;VALUE=DATE:20130418
DTEND;VALUE=DATE:20130421
DTSTAMP:20260421T221344
CREATED:20211023T214724Z
LAST-MODIFIED:20220306T222550Z
UID:1838-1366243200-1366502399@www.caslt.org
SUMMARY:Languages Without Borders 2013
DESCRIPTION:From April 18–20\, 2013\, CASLT hosted Languages Without Borders (LWB) in Winnipeg\, Manitoba. Close to 500 participants attended this edition of the conference. More than two full days of professional development included 71 workshops\, six roundtables\, two keynote addresses\, a number of language workshops\, and an exhibitors’ hall that brought together the most important players in language teaching and learning from across Canada.
URL:https://www.caslt.org/en/event/lwb-2013/
LOCATION:Hotel Delta Winnipeg\, 350 St. Mary Ave.\, Winnipeg\, Manitoba\, R3C 3J2\, Canada
CATEGORIES:Languages Without Borders
ATTACH;FMTTYPE=image/jpeg:https://www.caslt.org/wp-content/uploads/2021/10/IMG_5111-scaled.jpg
END:VEVENT
END:VCALENDAR