BEGIN:VCALENDAR
VERSION:2.0
PRODID:-//Canadian Association of Second Language Teachers (CASLT) - ECPv6.15.18//NONSGML v1.0//EN
CALSCALE:GREGORIAN
METHOD:PUBLISH
X-WR-CALNAME:Canadian Association of Second Language Teachers (CASLT)
X-ORIGINAL-URL:https://www.caslt.org/en/
X-WR-CALDESC:Events for Canadian Association of Second Language Teachers (CASLT)
REFRESH-INTERVAL;VALUE=DURATION:PT1H
X-Robots-Tag:noindex
X-PUBLISHED-TTL:PT1H
BEGIN:VTIMEZONE
TZID:America/Toronto
BEGIN:DAYLIGHT
TZOFFSETFROM:-0500
TZOFFSETTO:-0400
TZNAME:EDT
DTSTART:20160313T070000
END:DAYLIGHT
BEGIN:STANDARD
TZOFFSETFROM:-0400
TZOFFSETTO:-0500
TZNAME:EST
DTSTART:20161106T060000
END:STANDARD
BEGIN:DAYLIGHT
TZOFFSETFROM:-0500
TZOFFSETTO:-0400
TZNAME:EDT
DTSTART:20170312T070000
END:DAYLIGHT
BEGIN:STANDARD
TZOFFSETFROM:-0400
TZOFFSETTO:-0500
TZNAME:EST
DTSTART:20171105T060000
END:STANDARD
BEGIN:DAYLIGHT
TZOFFSETFROM:-0500
TZOFFSETTO:-0400
TZNAME:EDT
DTSTART:20180311T070000
END:DAYLIGHT
BEGIN:STANDARD
TZOFFSETFROM:-0400
TZOFFSETTO:-0500
TZNAME:EST
DTSTART:20181104T060000
END:STANDARD
END:VTIMEZONE
BEGIN:VEVENT
DTSTART;VALUE=DATE:20170406
DTEND;VALUE=DATE:20170409
DTSTAMP:20260421T134030
CREATED:20211202T181120Z
LAST-MODIFIED:20220218T181937Z
UID:3077-1491436800-1491695999@www.caslt.org
SUMMARY:Languages Without Borders 2017
DESCRIPTION:From April 6–8\, 2017\, CASLT and the Institute for Innovation in Second Language Education (IISLE) at Edmonton Public Schools co-hosted the Languages Without Borders (LWB) conference in Edmonton\, Alberta. CASLT and IISLE worked together to organize\, promote\, and present an extraordinary conference that brought together over 620 attendees and 130 presenters. \nThe 2017 LWB conference included a major innovation for CASLT: the Aboriginal Languages Gathering (ALG) programming. With 19 sessions focusing on topics such as the teaching of Indigenous languages; the connection between language\, culture\, and identity; applying the Common Framework of Reference in Indigenous language classrooms; Indigenous language immersion programs; and much more\, the ALG provided an entire conference within a conference. \nSome sessions were recorded and are available on the CASLT Learning Centre.
URL:https://www.caslt.org/en/event/lwb-2017/
LOCATION:Edmonton Convention Centre\, 9797 Jasper Ave.\, Edmonton\, Alberta\, T5J 1N9\, Canada
CATEGORIES:Languages Without Borders
ATTACH;FMTTYPE=image/jpeg:https://www.caslt.org/wp-content/uploads/2021/12/ESPB-Languages-without-Borders-1042-scaled.jpg
END:VEVENT
END:VCALENDAR