BEGIN:VCALENDAR
VERSION:2.0
PRODID:-//Canadian Association of Second Language Teachers (CASLT) - ECPv6.15.18//NONSGML v1.0//EN
CALSCALE:GREGORIAN
METHOD:PUBLISH
X-WR-CALNAME:Canadian Association of Second Language Teachers (CASLT)
X-ORIGINAL-URL:https://www.caslt.org/en/
X-WR-CALDESC:Events for Canadian Association of Second Language Teachers (CASLT)
REFRESH-INTERVAL;VALUE=DURATION:PT1H
X-Robots-Tag:noindex
X-PUBLISHED-TTL:PT1H
BEGIN:VTIMEZONE
TZID:America/Toronto
BEGIN:DAYLIGHT
TZOFFSETFROM:-0500
TZOFFSETTO:-0400
TZNAME:EDT
DTSTART:20170312T070000
END:DAYLIGHT
BEGIN:STANDARD
TZOFFSETFROM:-0400
TZOFFSETTO:-0500
TZNAME:EST
DTSTART:20171105T060000
END:STANDARD
BEGIN:DAYLIGHT
TZOFFSETFROM:-0500
TZOFFSETTO:-0400
TZNAME:EDT
DTSTART:20180311T070000
END:DAYLIGHT
BEGIN:STANDARD
TZOFFSETFROM:-0400
TZOFFSETTO:-0500
TZNAME:EST
DTSTART:20181104T060000
END:STANDARD
BEGIN:DAYLIGHT
TZOFFSETFROM:-0500
TZOFFSETTO:-0400
TZNAME:EDT
DTSTART:20190310T070000
END:DAYLIGHT
BEGIN:STANDARD
TZOFFSETFROM:-0400
TZOFFSETTO:-0500
TZNAME:EST
DTSTART:20191103T060000
END:STANDARD
END:VTIMEZONE
BEGIN:VEVENT
DTSTART;VALUE=DATE:20180928
DTEND;VALUE=DATE:20180929
DTSTAMP:20260421T134129
CREATED:20211021T160217Z
LAST-MODIFIED:20211215T010027Z
UID:983-1538092800-1538179199@www.caslt.org
SUMMARY:2018 Annual General Meeting
DESCRIPTION:CASLT holds its annual general meeting (AGM) each fall. At the AGM\, CASLT members and stakeholders gather to discuss important updates\, vote\, and network. \nThe 2018 AGM took place in Gatineau\, Quebec and brought together 80 participants. Second language education stakeholders discussed Canada’s 2018–2023 Action Plan for Official Languages: Investing in Our Future with a focus on the opportunities it provides to address the ongoing challenge of the FSL teacher shortage. \nThe AGM was followed by CASLT’s 2018 Networking Day.
URL:https://www.caslt.org/en/event/2018-annual-general-meeting/
LOCATION:Crowne Plaza Hotel\, 2 Montcalm Street\, Gatineau\, Quebec\, J8X 4B4\, Canada
CATEGORIES:Annual General Meeting
ATTACH;FMTTYPE=image/jpeg:https://www.caslt.org/wp-content/uploads/2021/12/amgphoto-3847.jpg
END:VEVENT
BEGIN:VEVENT
DTSTART;VALUE=DATE:20180928
DTEND;VALUE=DATE:20180929
DTSTAMP:20260421T134129
CREATED:20211215T031048Z
LAST-MODIFIED:20211215T031117Z
UID:5002-1538092800-1538179199@www.caslt.org
SUMMARY:Networking Day 2018
DESCRIPTION:Each year\, CASLT hosts a networking event following its Annual General Meeting (AGM). The Networking Day is a great opportunity for CASLT members\, partners\, and second language education stakeholders to share information and ideas. At the AGM and Networking Day 2018\, CASLT presented several workshops and information sessions on new resources and initiatives in the second language world.
URL:https://www.caslt.org/en/event/networking-day-2018/
LOCATION:Crowne Plaza Hotel\, 2 Montcalm Street\, Gatineau\, Quebec\, J8X 4B4\, Canada
CATEGORIES:Networking
ATTACH;FMTTYPE=image/jpeg:https://www.caslt.org/wp-content/uploads/2021/12/amgphoto-3648-scaled.jpg
END:VEVENT
END:VCALENDAR