BEGIN:VCALENDAR
VERSION:2.0
PRODID:-//Association canadienne des professeurs de langues secondes (ACPLS) - ECPv6.15.18//NONSGML v1.0//EN
CALSCALE:GREGORIAN
METHOD:PUBLISH
X-WR-CALNAME:Association canadienne des professeurs de langues secondes (ACPLS)
X-ORIGINAL-URL:https://www.caslt.org/fr/
X-WR-CALDESC:Évènements pour Association canadienne des professeurs de langues secondes (ACPLS)
REFRESH-INTERVAL;VALUE=DURATION:PT1H
X-Robots-Tag:noindex
X-PUBLISHED-TTL:PT1H
BEGIN:VTIMEZONE
TZID:America/Toronto
BEGIN:DAYLIGHT
TZOFFSETFROM:-0500
TZOFFSETTO:-0400
TZNAME:EDT
DTSTART:20240310T070000
END:DAYLIGHT
BEGIN:STANDARD
TZOFFSETFROM:-0400
TZOFFSETTO:-0500
TZNAME:EST
DTSTART:20241103T060000
END:STANDARD
BEGIN:DAYLIGHT
TZOFFSETFROM:-0500
TZOFFSETTO:-0400
TZNAME:EDT
DTSTART:20250309T070000
END:DAYLIGHT
BEGIN:STANDARD
TZOFFSETFROM:-0400
TZOFFSETTO:-0500
TZNAME:EST
DTSTART:20251102T060000
END:STANDARD
BEGIN:DAYLIGHT
TZOFFSETFROM:-0500
TZOFFSETTO:-0400
TZNAME:EDT
DTSTART:20260308T070000
END:DAYLIGHT
BEGIN:STANDARD
TZOFFSETFROM:-0400
TZOFFSETTO:-0500
TZNAME:EST
DTSTART:20261101T060000
END:STANDARD
END:VTIMEZONE
BEGIN:VEVENT
DTSTART;TZID=America/Toronto:20251002T113000
DTEND;TZID=America/Toronto:20251002T124500
DTSTAMP:20260425T132219
CREATED:20250917T195440Z
LAST-MODIFIED:20250917T195532Z
UID:30233-1759404600-1759409100@www.caslt.org
SUMMARY:Forum de recherche CCERBAL : Programmes d’enseignement supérieur multilingues en Belgique francophone
DESCRIPTION:
URL:https://www.caslt.org/fr/evenement/forum-recherche-ccerbal-programmes-enseignement-superieur-multilingues-belgique-francophone/
CATEGORIES:Point de mire de la communauté
ATTACH;FMTTYPE=image/jpeg:https://www.caslt.org/wp-content/uploads/2025/09/Research-Forum-Hero.jpg
END:VEVENT
BEGIN:VEVENT
DTSTART;TZID=America/Toronto:20251023T113000
DTEND;TZID=America/Toronto:20251023T130000
DTSTAMP:20260425T132219
CREATED:20251015T210452Z
LAST-MODIFIED:20251015T210452Z
UID:30503-1761219000-1761224400@www.caslt.org
SUMMARY:Forum de recherche du CCERBAL : L2 Listening Teaching and Testing: Making it More Authentic
DESCRIPTION:
URL:https://www.caslt.org/fr/evenement/forum-recherche-ccerbal-l2-listening-teaching-testing/
CATEGORIES:Point de mire de la communauté
ATTACH;FMTTYPE=image/jpeg:https://www.caslt.org/wp-content/uploads/2025/10/Research-Forum-Hero-Elvis.jpg
END:VEVENT
END:VCALENDAR